BEGIN:VCALENDAR
VERSION:2.0
PRODID:-//COCRATOS - ECPv6.3.4//NONSGML v1.0//EN
CALSCALE:GREGORIAN
METHOD:PUBLISH
X-ORIGINAL-URL:https://www.cocratos.nl
X-WR-CALDESC:Evenementen voor COCRATOS
REFRESH-INTERVAL;VALUE=DURATION:PT1H
X-Robots-Tag:noindex
X-PUBLISHED-TTL:PT1H
BEGIN:VTIMEZONE
TZID:Europe/Amsterdam
BEGIN:DAYLIGHT
TZOFFSETFROM:+0100
TZOFFSETTO:+0200
TZNAME:CEST
DTSTART:20240331T010000
END:DAYLIGHT
BEGIN:STANDARD
TZOFFSETFROM:+0200
TZOFFSETTO:+0100
TZNAME:CET
DTSTART:20241027T010000
END:STANDARD
END:VTIMEZONE
BEGIN:VEVENT
DTSTART;TZID=Europe/Amsterdam:20240917T173000
DTEND;TZID=Europe/Amsterdam:20240917T190000
DTSTAMP:20260422T015640
CREATED:20240615T215227Z
LAST-MODIFIED:20240615T215245Z
UID:3787-1726594200-1726599600@www.cocratos.nl
SUMMARY:17 september: Samen SLIM circulair eten
DESCRIPTION:Kom lekker mee eten! Er wordt gekookt op de ‘HomeBiogas 2’ met zelf opgewekt GroenGas uit onze eigen Groente-\, Fruit- en Etensresten (GFE)! Neem behalve je bord\, bestek en glas ook je GF-E van thuis mee! Meer info op cocratos.nl/SamenSLIMcirculair. Groen\, gezond\, gezellig en goedkoop! Wie het eerst komt\, wie het eerst maalt: max 6 personen per keer ivm beperkte droge zitruimte onder de kapschuur. Bijdrage in de etenskosten zijn 5 euro per persoon inclusief 1 drankje\, ter plekke te voldoen (cash of tikkie).
URL:https://www.cocratos.nl/etentje/58/
LOCATION:Kapschuur achter Maldenhof 477\, Maldenhof 477\, Amsterdam\, 1106EN\, Nederland
ATTACH;FMTTYPE=image/jpeg:https://www.cocratos.nl/wp-content/uploads/2024/03/etentje-1536x864-1.jpg
ORGANIZER;CN="Anne Stijkel%2C stichting Cocratos":MAILTO:anne.stijkel@inclusivescience.org
END:VEVENT
END:VCALENDAR