BEGIN:VCALENDAR
VERSION:2.0
PRODID:-//COCRATOS - ECPv6.3.4//NONSGML v1.0//EN
CALSCALE:GREGORIAN
METHOD:PUBLISH
X-WR-CALNAME:COCRATOS
X-ORIGINAL-URL:https://www.cocratos.nl
X-WR-CALDESC:Evenementen voor COCRATOS
REFRESH-INTERVAL;VALUE=DURATION:PT1H
X-Robots-Tag:noindex
X-PUBLISHED-TTL:PT1H
BEGIN:VTIMEZONE
TZID:Europe/Amsterdam
BEGIN:DAYLIGHT
TZOFFSETFROM:+0100
TZOFFSETTO:+0200
TZNAME:CEST
DTSTART:20240331T010000
END:DAYLIGHT
BEGIN:STANDARD
TZOFFSETFROM:+0200
TZOFFSETTO:+0100
TZNAME:CET
DTSTART:20241027T010000
END:STANDARD
END:VTIMEZONE
BEGIN:VEVENT
DTSTART;TZID=Europe/Amsterdam:20240603T173000
DTEND;TZID=Europe/Amsterdam:20240603T190000
DTSTAMP:20260422T044154
CREATED:20240327T081910Z
LAST-MODIFIED:20240630T223918Z
UID:3228-1717435800-1717441200@www.cocratos.nl
SUMMARY:3 juni: Samen SLIM circulair eten (VOL)
DESCRIPTION:Kom lekker mee eten! Er wordt gekookt op de ‘HomeBiogas 2’ met zelf opgewekt GroenGas uit onze eigen Groente-\, Fruit- en Etensresten (GFE)! Neem behalve je bord\, bestek en glas ook je GF-E van thuis mee! Meer info op cocratos.nl/SamenSLIMcirculair. Groen\, gezond\, gezellig en goedkoop! Wie het eerst komt\, wie het eerst maalt: max 6 personen per keer ivm beperkte droge zitruimte onder de kapschuur. Bijdrage in de etenskosten zijn 5 euro per persoon inclusief 1 drankje\, ter plekke te voldoen (cash of tikkie).
URL:https://www.cocratos.nl/etentje/12/
LOCATION:Kapschuur achter Maldenhof 477\, Maldenhof 477\, Amsterdam\, 1106EN\, Nederland
ATTACH;FMTTYPE=image/jpeg:https://www.cocratos.nl/wp-content/uploads/2024/03/etentje-1536x864-1.jpg
ORGANIZER;CN="Anne Stijkel%2C stichting Cocratos":MAILTO:anne.stijkel@inclusivescience.org
END:VEVENT
BEGIN:VEVENT
DTSTART;TZID=Europe/Amsterdam:20240604T173000
DTEND;TZID=Europe/Amsterdam:20240604T190000
DTSTAMP:20260422T044154
CREATED:20240327T082044Z
LAST-MODIFIED:20240414T211316Z
UID:3231-1717522200-1717527600@www.cocratos.nl
SUMMARY:4 juni: Samen SLIM circulair eten (VOL)
DESCRIPTION:Kom lekker mee eten! Er wordt gekookt op de ‘HomeBiogas 2’ met zelf opgewekt GroenGas uit onze eigen Groente-\, Fruit- en Etensresten (GFE)! Neem behalve je bord\, bestek en glas ook je GF-E van thuis mee! Meer info op cocratos.nl/SamenSLIMcirculair. Groen\, gezond\, gezellig en goedkoop! Wie het eerst komt\, wie het eerst maalt: max 6 personen per keer ivm beperkte droge zitruimte onder de kapschuur. Bijdrage in de etenskosten zijn 5 euro per persoon inclusief 1 drankje\, ter plekke te voldoen (cash of tikkie).
URL:https://www.cocratos.nl/etentje/13/
LOCATION:Kapschuur achter Maldenhof 477\, Maldenhof 477\, Amsterdam\, 1106EN\, Nederland
ATTACH;FMTTYPE=image/jpeg:https://www.cocratos.nl/wp-content/uploads/2024/03/etentje-1536x864-1.jpg
ORGANIZER;CN="Anne Stijkel%2C stichting Cocratos":MAILTO:anne.stijkel@inclusivescience.org
END:VEVENT
BEGIN:VEVENT
DTSTART;TZID=Europe/Amsterdam:20240606T173000
DTEND;TZID=Europe/Amsterdam:20240606T190000
DTSTAMP:20260422T044154
CREATED:20240327T082200Z
LAST-MODIFIED:20240328T221003Z
UID:3234-1717695000-1717700400@www.cocratos.nl
SUMMARY:6 juni: Samen SLIM circulair eten (VOL)
DESCRIPTION:Kom lekker mee eten! Er wordt gekookt op de ‘HomeBiogas 2’ met zelf opgewekt GroenGas uit onze eigen Groente-\, Fruit- en Etensresten (GFE)! Neem behalve je bord\, bestek en glas ook je GF-E van thuis mee! Meer info op cocratos.nl/SamenSLIMcirculair. Groen\, gezond\, gezellig en goedkoop! Wie het eerst komt\, wie het eerst maalt: max 6 personen per keer ivm beperkte droge zitruimte onder de kapschuur. Bijdrage in de etenskosten zijn 5 euro per persoon inclusief 1 drankje\, ter plekke te voldoen (cash of tikkie).
URL:https://www.cocratos.nl/etentje/14/
LOCATION:Kapschuur achter Maldenhof 477\, Maldenhof 477\, Amsterdam\, 1106EN\, Nederland
ATTACH;FMTTYPE=image/jpeg:https://www.cocratos.nl/wp-content/uploads/2024/03/etentje-1536x864-1.jpg
ORGANIZER;CN="Anne Stijkel%2C stichting Cocratos":MAILTO:anne.stijkel@inclusivescience.org
END:VEVENT
BEGIN:VEVENT
DTSTART;TZID=Europe/Amsterdam:20240610T173000
DTEND;TZID=Europe/Amsterdam:20240610T190000
DTSTAMP:20260422T044154
CREATED:20240327T082337Z
LAST-MODIFIED:20240523T215124Z
UID:3236-1718040600-1718046000@www.cocratos.nl
SUMMARY:10 juni: Samen SLIM circulair eten (VOL)
DESCRIPTION:Kom lekker mee eten! Er wordt gekookt op de ‘HomeBiogas 2’ met zelf opgewekt GroenGas uit onze eigen Groente-\, Fruit- en Etensresten (GFE)! Neem behalve je bord\, bestek en glas ook je GF-E van thuis mee! Meer info op cocratos.nl/SamenSLIMcirculair. Groen\, gezond\, gezellig en goedkoop! Wie het eerst komt\, wie het eerst maalt: max 6 personen per keer ivm beperkte droge zitruimte onder de kapschuur. Bijdrage in de etenskosten zijn 5 euro per persoon inclusief 1 drankje\, ter plekke te voldoen (cash of tikkie).
URL:https://www.cocratos.nl/etentje/15/
LOCATION:Kapschuur achter Maldenhof 477\, Maldenhof 477\, Amsterdam\, 1106EN\, Nederland
ATTACH;FMTTYPE=image/jpeg:https://www.cocratos.nl/wp-content/uploads/2024/03/etentje-1536x864-1.jpg
ORGANIZER;CN="Anne Stijkel%2C stichting Cocratos":MAILTO:anne.stijkel@inclusivescience.org
END:VEVENT
BEGIN:VEVENT
DTSTART;TZID=Europe/Amsterdam:20240611T173000
DTEND;TZID=Europe/Amsterdam:20240611T190000
DTSTAMP:20260422T044154
CREATED:20240327T082447Z
LAST-MODIFIED:20240607T122748Z
UID:3239-1718127000-1718132400@www.cocratos.nl
SUMMARY:11 juni: Samen SLIM circulair eten (VOL)
DESCRIPTION:Kom lekker mee eten! Er wordt gekookt op de ‘HomeBiogas 2’ met zelf opgewekt GroenGas uit onze eigen Groente-\, Fruit- en Etensresten (GFE)! Neem behalve je bord\, bestek en glas ook je GF-E van thuis mee! Meer info op cocratos.nl/SamenSLIMcirculair. Groen\, gezond\, gezellig en goedkoop! Wie het eerst komt\, wie het eerst maalt: max 6 personen per keer ivm beperkte droge zitruimte onder de kapschuur. Bijdrage in de etenskosten zijn 5 euro per persoon inclusief 1 drankje\, ter plekke te voldoen (cash of tikkie).
URL:https://www.cocratos.nl/etentje/16/
LOCATION:Kapschuur achter Maldenhof 477\, Maldenhof 477\, Amsterdam\, 1106EN\, Nederland
ATTACH;FMTTYPE=image/jpeg:https://www.cocratos.nl/wp-content/uploads/2024/03/etentje-1536x864-1.jpg
ORGANIZER;CN="Anne Stijkel%2C stichting Cocratos":MAILTO:anne.stijkel@inclusivescience.org
END:VEVENT
BEGIN:VEVENT
DTSTART;TZID=Europe/Amsterdam:20240613T173000
DTEND;TZID=Europe/Amsterdam:20240613T190000
DTSTAMP:20260422T044154
CREATED:20240327T082616Z
LAST-MODIFIED:20240527T214326Z
UID:3242-1718299800-1718305200@www.cocratos.nl
SUMMARY:13 juni: Samen SLIM circulair eten (VOL)
DESCRIPTION:Kom lekker mee eten! Er wordt gekookt op de ‘HomeBiogas 2’ met zelf opgewekt GroenGas uit onze eigen Groente-\, Fruit- en Etensresten (GFE)! Neem behalve je bord\, bestek en glas ook je GF-E van thuis mee! Meer info op cocratos.nl/SamenSLIMcirculair. Groen\, gezond\, gezellig en goedkoop! Wie het eerst komt\, wie het eerst maalt: max 6 personen per keer ivm beperkte droge zitruimte onder de kapschuur. Bijdrage in de etenskosten zijn 5 euro per persoon inclusief 1 drankje\, ter plekke te voldoen (cash of tikkie).
URL:https://www.cocratos.nl/etentje/17/
LOCATION:Kapschuur achter Maldenhof 477\, Maldenhof 477\, Amsterdam\, 1106EN\, Nederland
ATTACH;FMTTYPE=image/jpeg:https://www.cocratos.nl/wp-content/uploads/2024/03/etentje-1536x864-1.jpg
ORGANIZER;CN="Anne Stijkel%2C stichting Cocratos":MAILTO:anne.stijkel@inclusivescience.org
END:VEVENT
BEGIN:VEVENT
DTSTART;TZID=Europe/Amsterdam:20240617T173000
DTEND;TZID=Europe/Amsterdam:20240617T190000
DTSTAMP:20260422T044154
CREATED:20240327T082721Z
LAST-MODIFIED:20240617T205705Z
UID:3245-1718645400-1718650800@www.cocratos.nl
SUMMARY:17 juni: Samen SLIM circulair eten (VOL)
DESCRIPTION:Kom lekker mee eten! Er wordt gekookt op de ‘HomeBiogas 2’ met zelf opgewekt GroenGas uit onze eigen Groente-\, Fruit- en Etensresten (GFE)! Neem behalve je bord\, bestek en glas ook je GF-E van thuis mee! Meer info op cocratos.nl/SamenSLIMcirculair. Groen\, gezond\, gezellig en goedkoop! Wie het eerst komt\, wie het eerst maalt: max 6 personen per keer ivm beperkte droge zitruimte onder de kapschuur. Bijdrage in de etenskosten zijn 5 euro per persoon inclusief 1 drankje\, ter plekke te voldoen (cash of tikkie).
URL:https://www.cocratos.nl/etentje/18/
LOCATION:Kapschuur achter Maldenhof 477\, Maldenhof 477\, Amsterdam\, 1106EN\, Nederland
ATTACH;FMTTYPE=image/jpeg:https://www.cocratos.nl/wp-content/uploads/2024/03/etentje-1536x864-1.jpg
ORGANIZER;CN="Anne Stijkel%2C stichting Cocratos":MAILTO:anne.stijkel@inclusivescience.org
END:VEVENT
BEGIN:VEVENT
DTSTART;TZID=Europe/Amsterdam:20240618T173000
DTEND;TZID=Europe/Amsterdam:20240618T190000
DTSTAMP:20260422T044154
CREATED:20240327T082829Z
LAST-MODIFIED:20240517T125526Z
UID:3248-1718731800-1718737200@www.cocratos.nl
SUMMARY:18 juni: Samen SLIM circulair eten (VOL)
DESCRIPTION:Kom lekker mee eten! Er wordt gekookt op de ‘HomeBiogas 2’ met zelf opgewekt GroenGas uit onze eigen Groente-\, Fruit- en Etensresten (GFE)! Neem behalve je bord\, bestek en glas ook je GF-E van thuis mee! Meer info op cocratos.nl/SamenSLIMcirculair. Groen\, gezond\, gezellig en goedkoop! Wie het eerst komt\, wie het eerst maalt: max 6 personen per keer ivm beperkte droge zitruimte onder de kapschuur. Bijdrage in de etenskosten zijn 5 euro per persoon inclusief 1 drankje\, ter plekke te voldoen (cash of tikkie).
URL:https://www.cocratos.nl/etentje/19/
LOCATION:Kapschuur achter Maldenhof 477\, Maldenhof 477\, Amsterdam\, 1106EN\, Nederland
ATTACH;FMTTYPE=image/jpeg:https://www.cocratos.nl/wp-content/uploads/2024/03/etentje-1536x864-1.jpg
ORGANIZER;CN="Anne Stijkel%2C stichting Cocratos":MAILTO:anne.stijkel@inclusivescience.org
END:VEVENT
BEGIN:VEVENT
DTSTART;TZID=Europe/Amsterdam:20240620T173000
DTEND;TZID=Europe/Amsterdam:20240620T190000
DTSTAMP:20260422T044154
CREATED:20240327T083007Z
LAST-MODIFIED:20240509T171606Z
UID:3251-1718904600-1718910000@www.cocratos.nl
SUMMARY:20 juni: Samen SLIM circulair eten (VOL)
DESCRIPTION:Kom lekker mee eten! Er wordt gekookt op de ‘HomeBiogas 2’ met zelf opgewekt GroenGas uit onze eigen Groente-\, Fruit- en Etensresten (GFE)! Neem behalve je bord\, bestek en glas ook je GF-E van thuis mee! Meer info op cocratos.nl/SamenSLIMcirculair. Groen\, gezond\, gezellig en goedkoop! Wie het eerst komt\, wie het eerst maalt: max 6 personen per keer ivm beperkte droge zitruimte onder de kapschuur. Bijdrage in de etenskosten zijn 5 euro per persoon inclusief 1 drankje\, ter plekke te voldoen (cash of tikkie).
URL:https://www.cocratos.nl/etentje/20/
LOCATION:Kapschuur achter Maldenhof 477\, Maldenhof 477\, Amsterdam\, 1106EN\, Nederland
ATTACH;FMTTYPE=image/jpeg:https://www.cocratos.nl/wp-content/uploads/2024/03/etentje-1536x864-1.jpg
ORGANIZER;CN="Anne Stijkel%2C stichting Cocratos":MAILTO:anne.stijkel@inclusivescience.org
END:VEVENT
BEGIN:VEVENT
DTSTART;TZID=Europe/Amsterdam:20240624T173000
DTEND;TZID=Europe/Amsterdam:20240624T190000
DTSTAMP:20260422T044154
CREATED:20240327T083143Z
LAST-MODIFIED:20240414T211408Z
UID:3254-1719250200-1719255600@www.cocratos.nl
SUMMARY:24 juni: Samen SLIM circulair eten (VOL)
DESCRIPTION:Kom lekker mee eten! Er wordt gekookt op de ‘HomeBiogas 2’ met zelf opgewekt GroenGas uit onze eigen Groente-\, Fruit- en Etensresten (GFE)! Neem behalve je bord\, bestek en glas ook je GF-E van thuis mee! Meer info op cocratos.nl/SamenSLIMcirculair. Groen\, gezond\, gezellig en goedkoop! Wie het eerst komt\, wie het eerst maalt: max 6 personen per keer ivm beperkte droge zitruimte onder de kapschuur. Bijdrage in de etenskosten zijn 5 euro per persoon inclusief 1 drankje\, ter plekke te voldoen (cash of tikkie).
URL:https://www.cocratos.nl/etentje/21/
LOCATION:Kapschuur achter Maldenhof 477\, Maldenhof 477\, Amsterdam\, 1106EN\, Nederland
ATTACH;FMTTYPE=image/jpeg:https://www.cocratos.nl/wp-content/uploads/2024/03/etentje-1536x864-1.jpg
ORGANIZER;CN="Anne Stijkel%2C stichting Cocratos":MAILTO:anne.stijkel@inclusivescience.org
END:VEVENT
BEGIN:VEVENT
DTSTART;TZID=Europe/Amsterdam:20240625T173000
DTEND;TZID=Europe/Amsterdam:20240625T190000
DTSTAMP:20260422T044154
CREATED:20240327T083307Z
LAST-MODIFIED:20240607T122950Z
UID:3257-1719336600-1719342000@www.cocratos.nl
SUMMARY:25 juni: Samen SLIM circulair eten (VOL)
DESCRIPTION:Kom lekker mee eten! Er wordt gekookt op de ‘HomeBiogas 2’ met zelf opgewekt GroenGas uit onze eigen Groente-\, Fruit- en Etensresten (GFE)! Neem behalve je bord\, bestek en glas ook je GF-E van thuis mee! Meer info op cocratos.nl/SamenSLIMcirculair. Groen\, gezond\, gezellig en goedkoop! Wie het eerst komt\, wie het eerst maalt: max 6 personen per keer ivm beperkte droge zitruimte onder de kapschuur. Bijdrage in de etenskosten zijn 5 euro per persoon inclusief 1 drankje\, ter plekke te voldoen (cash of tikkie).
URL:https://www.cocratos.nl/etentje/22/
LOCATION:Kapschuur achter Maldenhof 477\, Maldenhof 477\, Amsterdam\, 1106EN\, Nederland
ATTACH;FMTTYPE=image/jpeg:https://www.cocratos.nl/wp-content/uploads/2024/03/etentje-1536x864-1.jpg
ORGANIZER;CN="Anne Stijkel%2C stichting Cocratos":MAILTO:anne.stijkel@inclusivescience.org
END:VEVENT
BEGIN:VEVENT
DTSTART;TZID=Europe/Amsterdam:20240627T173000
DTEND;TZID=Europe/Amsterdam:20240627T190000
DTSTAMP:20260422T044154
CREATED:20240327T083433Z
LAST-MODIFIED:20240607T123040Z
UID:3260-1719509400-1719514800@www.cocratos.nl
SUMMARY:27 juni: Samen SLIM circulair eten (VOL)
DESCRIPTION:Kom lekker mee eten! Er wordt gekookt op de ‘HomeBiogas 2’ met zelf opgewekt GroenGas uit onze eigen Groente-\, Fruit- en Etensresten (GFE)! Neem behalve je bord\, bestek en glas ook je GF-E van thuis mee! Meer info op cocratos.nl/SamenSLIMcirculair. Groen\, gezond\, gezellig en goedkoop! Wie het eerst komt\, wie het eerst maalt: max 6 personen per keer ivm beperkte droge zitruimte onder de kapschuur. Bijdrage in de etenskosten zijn 5 euro per persoon inclusief 1 drankje\, ter plekke te voldoen (cash of tikkie).
URL:https://www.cocratos.nl/etentje/23/
LOCATION:Kapschuur achter Maldenhof 477\, Maldenhof 477\, Amsterdam\, 1106EN\, Nederland
ATTACH;FMTTYPE=image/jpeg:https://www.cocratos.nl/wp-content/uploads/2024/03/etentje-1536x864-1.jpg
ORGANIZER;CN="Anne Stijkel%2C stichting Cocratos":MAILTO:anne.stijkel@inclusivescience.org
END:VEVENT
END:VCALENDAR