BEGIN:VCALENDAR
VERSION:2.0
PRODID:-//COCRATOS - ECPv6.3.4//NONSGML v1.0//EN
CALSCALE:GREGORIAN
METHOD:PUBLISH
X-ORIGINAL-URL:https://www.cocratos.nl
X-WR-CALDESC:Evenementen voor COCRATOS
REFRESH-INTERVAL;VALUE=DURATION:PT1H
X-Robots-Tag:noindex
X-PUBLISHED-TTL:PT1H
BEGIN:VTIMEZONE
TZID:Europe/Amsterdam
BEGIN:DAYLIGHT
TZOFFSETFROM:+0100
TZOFFSETTO:+0200
TZNAME:CEST
DTSTART:20240331T010000
END:DAYLIGHT
BEGIN:STANDARD
TZOFFSETFROM:+0200
TZOFFSETTO:+0100
TZNAME:CET
DTSTART:20241027T010000
END:STANDARD
END:VTIMEZONE
BEGIN:VEVENT
DTSTART;TZID=Europe/Amsterdam:20240801T173000
DTEND;TZID=Europe/Amsterdam:20240801T190000
DTSTAMP:20260422T015807
CREATED:20240615T151000Z
LAST-MODIFIED:20240710T055632Z
UID:3724-1722533400-1722538800@www.cocratos.nl
SUMMARY:1 augustus: Samen SLIM circulair eten (VOL)
DESCRIPTION:Kom lekker mee eten! Er wordt gekookt op de ‘HomeBiogas 2’ met zelf opgewekt GroenGas uit onze eigen Groente-\, Fruit- en Etensresten (GFE)! Neem behalve je bord\, bestek en glas ook je GF-E van thuis mee! Meer info op cocratos.nl/SamenSLIMcirculair. Groen\, gezond\, gezellig en goedkoop! Wie het eerst komt\, wie het eerst maalt: max 6 personen per keer ivm beperkte droge zitruimte onder de kapschuur. Bijdrage in de etenskosten zijn 5 euro per persoon inclusief 1 drankje\, ter plekke te voldoen (cash of tikkie).
URL:https://www.cocratos.nl/etentje/38/
LOCATION:Kapschuur achter Maldenhof 477\, Maldenhof 477\, Amsterdam\, 1106EN\, Nederland
ATTACH;FMTTYPE=image/jpeg:https://www.cocratos.nl/wp-content/uploads/2024/06/etentje1.jpg
ORGANIZER;CN="Anne Stijkel%2C stichting Cocratos":MAILTO:anne.stijkel@inclusivescience.org
END:VEVENT
BEGIN:VEVENT
DTSTART;TZID=Europe/Amsterdam:20240805T173000
DTEND;TZID=Europe/Amsterdam:20240805T190000
DTSTAMP:20260422T015807
CREATED:20240615T205943Z
LAST-MODIFIED:20240719T141816Z
UID:3729-1722879000-1722884400@www.cocratos.nl
SUMMARY:5 augustus: Samen SLIM circulair eten (VOL)
DESCRIPTION:Kom lekker mee eten! Er wordt gekookt op de ‘HomeBiogas 2’ met zelf opgewekt GroenGas uit onze eigen Groente-\, Fruit- en Etensresten (GFE)! Neem behalve je bord\, bestek en glas ook je GF-E van thuis mee! Meer info op cocratos.nl/SamenSLIMcirculair. Groen\, gezond\, gezellig en goedkoop! Wie het eerst komt\, wie het eerst maalt: max 6 personen per keer ivm beperkte droge zitruimte onder de kapschuur. Bijdrage in de etenskosten zijn 5 euro per persoon inclusief 1 drankje\, ter plekke te voldoen (cash of tikkie).
URL:https://www.cocratos.nl/etentje/5-augustus-samen-slim-circulair-eten/
LOCATION:Kapschuur achter Maldenhof 477\, Maldenhof 477\, Amsterdam\, 1106EN\, Nederland
ATTACH;FMTTYPE=image/jpeg:https://www.cocratos.nl/wp-content/uploads/2024/06/etentje2.jpg
ORGANIZER;CN="Anne Stijkel%2C stichting Cocratos":MAILTO:anne.stijkel@inclusivescience.org
END:VEVENT
BEGIN:VEVENT
DTSTART;TZID=Europe/Amsterdam:20240806T173000
DTEND;TZID=Europe/Amsterdam:20240806T190000
DTSTAMP:20260422T015807
CREATED:20240615T210320Z
LAST-MODIFIED:20240802T053934Z
UID:3732-1722965400-1722970800@www.cocratos.nl
SUMMARY:6 augustus: Samen SLIM circulair eten (VOL)
DESCRIPTION:Kom lekker mee eten! Er wordt gekookt op de ‘HomeBiogas 2’ met zelf opgewekt GroenGas uit onze eigen Groente-\, Fruit- en Etensresten (GFE)! Neem behalve je bord\, bestek en glas ook je GF-E van thuis mee! Meer info op cocratos.nl/SamenSLIMcirculair. Groen\, gezond\, gezellig en goedkoop! Wie het eerst komt\, wie het eerst maalt: max 6 personen per keer ivm beperkte droge zitruimte onder de kapschuur. Bijdrage in de etenskosten zijn 5 euro per persoon inclusief 1 drankje\, ter plekke te voldoen (cash of tikkie).
URL:https://www.cocratos.nl/etentje/40/
LOCATION:Kapschuur achter Maldenhof 477\, Maldenhof 477\, Amsterdam\, 1106EN\, Nederland
ATTACH;FMTTYPE=image/jpeg:https://www.cocratos.nl/wp-content/uploads/2024/03/etentje-1536x864-1.jpg
ORGANIZER;CN="Anne Stijkel%2C stichting Cocratos":MAILTO:anne.stijkel@inclusivescience.org
END:VEVENT
BEGIN:VEVENT
DTSTART;TZID=Europe/Amsterdam:20240808T173000
DTEND;TZID=Europe/Amsterdam:20240808T190000
DTSTAMP:20260422T015807
CREATED:20240615T210611Z
LAST-MODIFIED:20240802T053828Z
UID:3735-1723138200-1723143600@www.cocratos.nl
SUMMARY:8 augustus: Samen SLIM circulair eten (VOL)
DESCRIPTION:Kom lekker mee eten! Er wordt gekookt op de ‘HomeBiogas 2’ met zelf opgewekt GroenGas uit onze eigen Groente-\, Fruit- en Etensresten (GFE)! Neem behalve je bord\, bestek en glas ook je GF-E van thuis mee! Meer info op cocratos.nl/SamenSLIMcirculair. Groen\, gezond\, gezellig en goedkoop! Wie het eerst komt\, wie het eerst maalt: max 6 personen per keer ivm beperkte droge zitruimte onder de kapschuur. Bijdrage in de etenskosten zijn 5 euro per persoon inclusief 1 drankje\, ter plekke te voldoen (cash of tikkie).
URL:https://www.cocratos.nl/etentje/41/
LOCATION:Kapschuur achter Maldenhof 477\, Maldenhof 477\, Amsterdam\, 1106EN\, Nederland
ATTACH;FMTTYPE=image/jpeg:https://www.cocratos.nl/wp-content/uploads/2024/06/etentje1.jpg
ORGANIZER;CN="Anne Stijkel%2C stichting Cocratos":MAILTO:anne.stijkel@inclusivescience.org
END:VEVENT
BEGIN:VEVENT
DTSTART;TZID=Europe/Amsterdam:20240812T173000
DTEND;TZID=Europe/Amsterdam:20240812T190000
DTSTAMP:20260422T015807
CREATED:20240615T210911Z
LAST-MODIFIED:20240802T053717Z
UID:3739-1723483800-1723489200@www.cocratos.nl
SUMMARY:12 augustus: Samen SLIM circulair  eten (VOL)
DESCRIPTION:Kom lekker mee eten! Er wordt gekookt op de ‘HomeBiogas 2’ met zelf opgewekt GroenGas uit onze eigen Groente-\, Fruit- en Etensresten (GFE)! Neem behalve je bord\, bestek en glas ook je GF-E van thuis mee! Meer info op cocratos.nl/SamenSLIMcirculair. Groen\, gezond\, gezellig en goedkoop! Wie het eerst komt\, wie het eerst maalt: max 6 personen per keer ivm beperkte droge zitruimte onder de kapschuur. Bijdrage in de etenskosten zijn 5 euro per persoon inclusief 1 drankje\, ter plekke te voldoen (cash of tikkie).
URL:https://www.cocratos.nl/etentje/42/
LOCATION:Kapschuur achter Maldenhof 477\, Maldenhof 477\, Amsterdam\, 1106EN\, Nederland
ATTACH;FMTTYPE=image/jpeg:https://www.cocratos.nl/wp-content/uploads/2024/06/etentje2.jpg
ORGANIZER;CN="Anne Stijkel%2C stichting Cocratos":MAILTO:anne.stijkel@inclusivescience.org
END:VEVENT
BEGIN:VEVENT
DTSTART;TZID=Europe/Amsterdam:20240813T173000
DTEND;TZID=Europe/Amsterdam:20240813T190000
DTSTAMP:20260422T015807
CREATED:20240615T211104Z
LAST-MODIFIED:20240802T053537Z
UID:3742-1723570200-1723575600@www.cocratos.nl
SUMMARY:13 augustus: Samen SLIM circulair eten (VOL)
DESCRIPTION:Kom lekker mee eten! Er wordt gekookt op de ‘HomeBiogas 2’ met zelf opgewekt GroenGas uit onze eigen Groente-\, Fruit- en Etensresten (GFE)! Neem behalve je bord\, bestek en glas ook je GF-E van thuis mee! Meer info op cocratos.nl/SamenSLIMcirculair. Groen\, gezond\, gezellig en goedkoop! Wie het eerst komt\, wie het eerst maalt: max 6 personen per keer ivm beperkte droge zitruimte onder de kapschuur. Bijdrage in de etenskosten zijn 5 euro per persoon inclusief 1 drankje\, ter plekke te voldoen (cash of tikkie).
URL:https://www.cocratos.nl/etentje/43/
LOCATION:Kapschuur achter Maldenhof 477\, Maldenhof 477\, Amsterdam\, 1106EN\, Nederland
ATTACH;FMTTYPE=image/jpeg:https://www.cocratos.nl/wp-content/uploads/2024/03/etentje-1536x864-1.jpg
ORGANIZER;CN="Anne Stijkel%2C stichting Cocratos":MAILTO:anne.stijkel@inclusivescience.org
END:VEVENT
BEGIN:VEVENT
DTSTART;TZID=Europe/Amsterdam:20240815T173000
DTEND;TZID=Europe/Amsterdam:20240815T190000
DTSTAMP:20260422T015807
CREATED:20240615T211247Z
LAST-MODIFIED:20240802T053150Z
UID:3745-1723743000-1723748400@www.cocratos.nl
SUMMARY:15 augustus: Samen SLIM circulair eten (VOL)
DESCRIPTION:Kom lekker mee eten! Er wordt gekookt op de ‘HomeBiogas 2’ met zelf opgewekt GroenGas uit onze eigen Groente-\, Fruit- en Etensresten (GFE)! Neem behalve je bord\, bestek en glas ook je GF-E van thuis mee! Meer info op cocratos.nl/SamenSLIMcirculair. Groen\, gezond\, gezellig en goedkoop! Wie het eerst komt\, wie het eerst maalt: max 6 personen per keer ivm beperkte droge zitruimte onder de kapschuur. Bijdrage in de etenskosten zijn 5 euro per persoon inclusief 1 drankje\, ter plekke te voldoen (cash of tikkie).
URL:https://www.cocratos.nl/etentje/44/
LOCATION:Kapschuur achter Maldenhof 477\, Maldenhof 477\, Amsterdam\, 1106EN\, Nederland
ATTACH;FMTTYPE=image/jpeg:https://www.cocratos.nl/wp-content/uploads/2024/06/etentje1.jpg
ORGANIZER;CN="Anne Stijkel%2C stichting Cocratos":MAILTO:anne.stijkel@inclusivescience.org
END:VEVENT
BEGIN:VEVENT
DTSTART;TZID=Europe/Amsterdam:20240819T173000
DTEND;TZID=Europe/Amsterdam:20240819T190000
DTSTAMP:20260422T015807
CREATED:20240615T211610Z
LAST-MODIFIED:20240802T053418Z
UID:3748-1724088600-1724094000@www.cocratos.nl
SUMMARY:19 augustus: Samen SLIM circulair eten (VOL)
DESCRIPTION:Kom lekker mee eten! Er wordt gekookt op de ‘HomeBiogas 2’ met zelf opgewekt GroenGas uit onze eigen Groente-\, Fruit- en Etensresten (GFE)! Neem behalve je bord\, bestek en glas ook je GF-E van thuis mee! Meer info op cocratos.nl/SamenSLIMcirculair. Groen\, gezond\, gezellig en goedkoop! Wie het eerst komt\, wie het eerst maalt: max 6 personen per keer ivm beperkte droge zitruimte onder de kapschuur. Bijdrage in de etenskosten zijn 5 euro per persoon inclusief 1 drankje\, ter plekke te voldoen (cash of tikkie).
URL:https://www.cocratos.nl/etentje/45/
LOCATION:Kapschuur achter Maldenhof 477\, Maldenhof 477\, Amsterdam\, 1106EN\, Nederland
ATTACH;FMTTYPE=image/jpeg:https://www.cocratos.nl/wp-content/uploads/2024/06/etentje2.jpg
ORGANIZER;CN="Anne Stijkel%2C stichting Cocratos":MAILTO:anne.stijkel@inclusivescience.org
END:VEVENT
BEGIN:VEVENT
DTSTART;TZID=Europe/Amsterdam:20240820T173000
DTEND;TZID=Europe/Amsterdam:20240820T190000
DTSTAMP:20260422T015807
CREATED:20240615T211808Z
LAST-MODIFIED:20240710T193701Z
UID:3751-1724175000-1724180400@www.cocratos.nl
SUMMARY:20 augustus: Samen SLIM circulair eten (VOL)
DESCRIPTION:Kom lekker mee eten! Er wordt gekookt op de ‘HomeBiogas 2’ met zelf opgewekt GroenGas uit onze eigen Groente-\, Fruit- en Etensresten (GFE)! Neem behalve je bord\, bestek en glas ook je GF-E van thuis mee! Meer info op cocratos.nl/SamenSLIMcirculair. Groen\, gezond\, gezellig en goedkoop! Wie het eerst komt\, wie het eerst maalt: max 6 personen per keer ivm beperkte droge zitruimte onder de kapschuur. Bijdrage in de etenskosten zijn 5 euro per persoon inclusief 1 drankje\, ter plekke te voldoen (cash of tikkie).
URL:https://www.cocratos.nl/etentje/46/
LOCATION:Kapschuur achter Maldenhof 477\, Maldenhof 477\, Amsterdam\, 1106EN\, Nederland
ATTACH;FMTTYPE=image/jpeg:https://www.cocratos.nl/wp-content/uploads/2024/03/etentje-1536x864-1.jpg
ORGANIZER;CN="Anne Stijkel%2C stichting Cocratos":MAILTO:anne.stijkel@inclusivescience.org
END:VEVENT
BEGIN:VEVENT
DTSTART;TZID=Europe/Amsterdam:20240822T173000
DTEND;TZID=Europe/Amsterdam:20240822T190000
DTSTAMP:20260422T015807
CREATED:20240615T212255Z
LAST-MODIFIED:20240615T212255Z
UID:3754-1724347800-1724353200@www.cocratos.nl
SUMMARY:22 augustus: Samen SLIM circulair eten
DESCRIPTION:Kom lekker mee eten! Er wordt gekookt op de ‘HomeBiogas 2’ met zelf opgewekt GroenGas uit onze eigen Groente-\, Fruit- en Etensresten (GFE)! Neem behalve je bord\, bestek en glas ook je GF-E van thuis mee! Meer info op cocratos.nl/SamenSLIMcirculair. Groen\, gezond\, gezellig en goedkoop! Wie het eerst komt\, wie het eerst maalt: max 6 personen per keer ivm beperkte droge zitruimte onder de kapschuur. Bijdrage in de etenskosten zijn 5 euro per persoon inclusief 1 drankje\, ter plekke te voldoen (cash of tikkie).
URL:https://www.cocratos.nl/etentje/47/
LOCATION:Kapschuur achter Maldenhof 477\, Maldenhof 477\, Amsterdam\, 1106EN\, Nederland
ATTACH;FMTTYPE=image/jpeg:https://www.cocratos.nl/wp-content/uploads/2024/06/etentje1.jpg
ORGANIZER;CN="Anne Stijkel%2C stichting Cocratos":MAILTO:anne.stijkel@inclusivescience.org
END:VEVENT
BEGIN:VEVENT
DTSTART;TZID=Europe/Amsterdam:20240826T173000
DTEND;TZID=Europe/Amsterdam:20240826T190000
DTSTAMP:20260422T015807
CREATED:20240615T212512Z
LAST-MODIFIED:20240712T134744Z
UID:3757-1724693400-1724698800@www.cocratos.nl
SUMMARY:26 augustus: Samen SLIM circulair eten (VOL)
DESCRIPTION:Kom lekker mee eten! Er wordt gekookt op de ‘HomeBiogas 2’ met zelf opgewekt GroenGas uit onze eigen Groente-\, Fruit- en Etensresten (GFE)! Neem behalve je bord\, bestek en glas ook je GF-E van thuis mee! Meer info op cocratos.nl/SamenSLIMcirculair. Groen\, gezond\, gezellig en goedkoop! Wie het eerst komt\, wie het eerst maalt: max 6 personen per keer ivm beperkte droge zitruimte onder de kapschuur. Bijdrage in de etenskosten zijn 5 euro per persoon inclusief 1 drankje\, ter plekke te voldoen (cash of tikkie).
URL:https://www.cocratos.nl/etentje/48/
LOCATION:Kapschuur achter Maldenhof 477\, Maldenhof 477\, Amsterdam\, 1106EN\, Nederland
ATTACH;FMTTYPE=image/jpeg:https://www.cocratos.nl/wp-content/uploads/2024/06/etentje2.jpg
ORGANIZER;CN="Anne Stijkel%2C stichting Cocratos":MAILTO:anne.stijkel@inclusivescience.org
END:VEVENT
BEGIN:VEVENT
DTSTART;TZID=Europe/Amsterdam:20240827T173000
DTEND;TZID=Europe/Amsterdam:20240827T190000
DTSTAMP:20260422T015807
CREATED:20240615T212832Z
LAST-MODIFIED:20240712T144558Z
UID:3760-1724779800-1724785200@www.cocratos.nl
SUMMARY:27 augustus: Samen SLIM circulair eten (VOL)
DESCRIPTION:Kom lekker mee eten! Er wordt gekookt op de ‘HomeBiogas 2’ met zelf opgewekt GroenGas uit onze eigen Groente-\, Fruit- en Etensresten (GFE)! Neem behalve je bord\, bestek en glas ook je GF-E van thuis mee! Meer info op cocratos.nl/SamenSLIMcirculair. Groen\, gezond\, gezellig en goedkoop! Wie het eerst komt\, wie het eerst maalt: max 6 personen per keer ivm beperkte droge zitruimte onder de kapschuur. Bijdrage in de etenskosten zijn 5 euro per persoon inclusief 1 drankje\, ter plekke te voldoen (cash of tikkie).
URL:https://www.cocratos.nl/etentje/49/
LOCATION:Kapschuur achter Maldenhof 477\, Maldenhof 477\, Amsterdam\, 1106EN\, Nederland
ATTACH;FMTTYPE=image/jpeg:https://www.cocratos.nl/wp-content/uploads/2024/03/etentje-1536x864-1.jpg
ORGANIZER;CN="Anne Stijkel%2C stichting Cocratos":MAILTO:anne.stijkel@inclusivescience.org
END:VEVENT
BEGIN:VEVENT
DTSTART;TZID=Europe/Amsterdam:20240829T173000
DTEND;TZID=Europe/Amsterdam:20240829T190000
DTSTAMP:20260422T015807
CREATED:20240615T213119Z
LAST-MODIFIED:20240711T142441Z
UID:3763-1724952600-1724958000@www.cocratos.nl
SUMMARY:29 augustus: Samen SLIM circulair eten (VOL)
DESCRIPTION:Kom lekker mee eten! Er wordt gekookt op de ‘HomeBiogas 2’ met zelf opgewekt GroenGas uit onze eigen Groente-\, Fruit- en Etensresten (GFE)! Neem behalve je bord\, bestek en glas ook je GF-E van thuis mee! Meer info op cocratos.nl/SamenSLIMcirculair. Groen\, gezond\, gezellig en goedkoop! Wie het eerst komt\, wie het eerst maalt: max 6 personen per keer ivm beperkte droge zitruimte onder de kapschuur. Bijdrage in de etenskosten zijn 5 euro per persoon inclusief 1 drankje\, ter plekke te voldoen (cash of tikkie).
URL:https://www.cocratos.nl/etentje/50/
LOCATION:Kapschuur achter Maldenhof 477\, Maldenhof 477\, Amsterdam\, 1106EN\, Nederland
ATTACH;FMTTYPE=image/jpeg:https://www.cocratos.nl/wp-content/uploads/2024/06/etentje1.jpg
ORGANIZER;CN="Anne Stijkel%2C stichting Cocratos":MAILTO:anne.stijkel@inclusivescience.org
END:VEVENT
END:VCALENDAR